BEGIN:VCALENDAR
VERSION:2.0
PRODID:-//Muzeul Olteniei Craiova  - ECPv5.14.2.1//NONSGML v1.0//EN
CALSCALE:GREGORIAN
METHOD:PUBLISH
X-WR-CALNAME:Muzeul Olteniei Craiova 
X-ORIGINAL-URL:https://muzeulolteniei.ro
X-WR-CALDESC:Events for Muzeul Olteniei Craiova 
BEGIN:VTIMEZONE
TZID:Europe/Helsinki
BEGIN:DAYLIGHT
TZOFFSETFROM:+0200
TZOFFSETTO:+0300
TZNAME:EEST
DTSTART:20190331T010000
END:DAYLIGHT
BEGIN:STANDARD
TZOFFSETFROM:+0300
TZOFFSETTO:+0200
TZNAME:EET
DTSTART:20191027T010000
END:STANDARD
END:VTIMEZONE
BEGIN:VEVENT
DTSTART;TZID=Europe/Helsinki:20190923T110000
DTEND;TZID=Europe/Helsinki:20190923T170000
DTSTAMP:20260420T173008
CREATED:20190922T073225Z
LAST-MODIFIED:20190922T073225Z
UID:15510-1569236400-1569258000@muzeulolteniei.ro
SUMMARY:Expoziție temporară „Natura\, tărâm nesecat de inspirație”\, la Secția Științele Naturii - Muzeul Olteniei Craiova
DESCRIPTION:Secția Științele Naturii – Muzeul Olteniei Craiova în colaborare cu Muzeul Viticulturii şi Pomiculturii – Goleşti\, instituție subordonată Consiliul Judeţean Argeş\, organizează\, în ziua de 23 septembrie 2019\, orele 11.00\, parter\, Str. Popa Șapcă\, nr. 8\, expoziția temporară „Natura\, tărâm nesecat de inspirație”. \nExpoziția conține 10 tablouri și se realizează în cadrul unui parteneriat cu atelierele de educație animalieră plastică Bios Art. \nLucrările au fost realizate de către elevi ai Cercului de pictură ”Culoare și Vis” din Corbeni\, înc adrul programului cultural-educaţional Vacanţa de vară…la ţară !. Cercul este coordonat depictoriţa Elena Stoica\, iar printre autorii tablourilor care vor fi expuse se numără și Raluca Măndița – absolventă a Facultății de Design (Italia)\, Patricia Stokeci – absolventă a Facultății de Design (Norvegia)\, Sorina Călinescu– câștigătoare a premiului de onoare a concursului international pe teme de\npictură\, organizat de firma Toyota – Tokyo\, Japonia. \nTablourile sunt realizate între anii 2009-2019 și conțin imagini de interior din Muzeul Golești și imagini de exterior\, cu inspirație din Natură.\nMesagerii acestei expoziții sunt dr. Cristina Botoghină\, muzeograf – Muzeul Viticulturii și Pomiculturii Golești\, Camelia Călin – cercetător științific – Muzeul Viticulturii și Pomiculturii Golești și alți reprezentanți ai acestei instituții de cultură. \nVernisarea expoziției vă fi urmată de desfășurarea unui atelier Bios Art\, având ca și temă inspirațională Natura\, atelier practic ce va avea ca și invitați elevi de la clasa a IV-a E\, step by step\, Colegiul Național Frații Buzești Craiova\, coordonați de d-le Elena Constantin și Angela Popescu – profesori în cadrul acestei unități de învățământ.\nProfesor Elena Stoica a absolvit Facultatea de Arte Plastice a Universităţii Timişoara (1972) şi a înfiinţat\, în 1976\, la Albeşti\, Cercul de artă plastică intitulat Cromo\, căruia i-a schimbat numele în Culoare şi vis\, în 2001\, când s-a mutat la Corbeni. \nPuţini ştiu că dascălul este unul dintre cei 10 finalişti ai competiţiei Liga Profesorilor Excepţionali organizată în urmă cu câţiva ani\, obținând locul III pe ţară în clasamentul final\,\nceea ce nu poate dovedi decât profesionalismul cu care îşi face meseria. \nElena Stoica cucereşte lumea cu micii pictori de la Corbeni!
URL:https://muzeulolteniei.ro/event/expozitie-temporara-natura-taram-nesecat-de-inspiratie-la-sectia-stiintele-naturii-muzeul-olteniei-craiova/
CATEGORIES:Ştiinţele Naturi
ATTACH;FMTTYPE=image/jpeg:https://muzeulolteniei.ro/wp-content/uploads/2019/09/expozitie-temporara.jpg
END:VEVENT
END:VCALENDAR