BEGIN:VCALENDAR
VERSION:2.0
PRODID:-//Muzeul Olteniei Craiova  - ECPv5.14.2.1//NONSGML v1.0//EN
CALSCALE:GREGORIAN
METHOD:PUBLISH
X-WR-CALNAME:Muzeul Olteniei Craiova 
X-ORIGINAL-URL:https://muzeulolteniei.ro
X-WR-CALDESC:Events for Muzeul Olteniei Craiova 
BEGIN:VTIMEZONE
TZID:Europe/Helsinki
BEGIN:DAYLIGHT
TZOFFSETFROM:+0200
TZOFFSETTO:+0300
TZNAME:EEST
DTSTART:20230326T010000
END:DAYLIGHT
BEGIN:STANDARD
TZOFFSETFROM:+0300
TZOFFSETTO:+0200
TZNAME:EET
DTSTART:20231029T010000
END:STANDARD
END:VTIMEZONE
BEGIN:VEVENT
DTSTART;TZID=Europe/Helsinki:20230706T100000
DTEND;TZID=Europe/Helsinki:20230706T130000
DTSTAMP:20260421T132218
CREATED:20230627T113010Z
LAST-MODIFIED:20230627T113010Z
UID:16580-1688637600-1688648400@muzeulolteniei.ro
SUMMARY:Intalnire de lucru la Craiova pentru prezentarea propunerilor de politici publice „Cultura deschisă” și „Culura viitorului”
DESCRIPTION:Unitatea de Management a Proiectului – UMP din cadrul Ministerului Culturii organizează o întâlnire de lucru la Craiova pentru prezentarea propunerilor de politici publice „Cultura deschisă” și „Cultura viitorului”. Cele două politici publice sunt realizate în cadrul proiectului „Viziune strategică și coerentă pentru sectorul cultural”\, al cărui rezultat major este Strategia Sectorială în Domeniul Culturii 2023-2030. \nÎntâlnirea va fi găzduită de Muzeul Olteniei în ziua de joi\, 6 iulie 2023\, între orele 10.00 – 13.00\, la sediul din Str. Popa Şapcă\, nr. 8\, Craiova. \nFormular de înscriere: https://forms.gle/r6mcCU7vC87DmUaW9. \nMai multe detalii: https://tinyurl.com/y8fxkjcf. \nSursa: Cultura cu prioritate
URL:https://muzeulolteniei.ro/event/intalnire-de-lucru-la-craiova-pentru-prezentarea-propunerilor-de-politici-publice-cultura-deschisa-si-culura-viitorului/
CATEGORIES:Eveniment
ATTACH;FMTTYPE=image/jpeg:https://muzeulolteniei.ro/wp-content/uploads/2023/06/cultura-deschisa.jpg
END:VEVENT
END:VCALENDAR