BEGIN:VCALENDAR
VERSION:2.0
PRODID:-//Muzeul Olteniei Craiova  - ECPv5.14.2.1//NONSGML v1.0//EN
CALSCALE:GREGORIAN
METHOD:PUBLISH
X-WR-CALNAME:Muzeul Olteniei Craiova 
X-ORIGINAL-URL:https://muzeulolteniei.ro
X-WR-CALDESC:Events for Muzeul Olteniei Craiova 
BEGIN:VTIMEZONE
TZID:Europe/Helsinki
BEGIN:DAYLIGHT
TZOFFSETFROM:+0200
TZOFFSETTO:+0300
TZNAME:EEST
DTSTART:20190331T010000
END:DAYLIGHT
BEGIN:STANDARD
TZOFFSETFROM:+0300
TZOFFSETTO:+0200
TZNAME:EET
DTSTART:20191027T010000
END:STANDARD
END:VTIMEZONE
BEGIN:VEVENT
DTSTART;TZID=Europe/Helsinki:20190825T080000
DTEND;TZID=Europe/Helsinki:20190901T170000
DTSTAMP:20260421T131304
CREATED:20190819T120338Z
LAST-MODIFIED:20190905T121957Z
UID:15389-1566720000-1567357200@muzeulolteniei.ro
SUMMARY:#PUPPETSOCCUPYSTREETFESTIVALCRAIOVA #400deevenimente #editia6 - 25 august - 1 septembrie 2019\, Craiova!
DESCRIPTION:Regăsim aici toate litaniile copilăriei noastre\, copilărie ca toate copilăriile copiilor acestei lumi plină de povești\, de păpuși și păpușari… \nMuzeul Olteniei va găzdui\, în cadrul Festivalul Puppets Occupy Street – REvolution Edition 2019\, Craiova\, în spațiile sale expoziționale trei ateliere creative și expoziția temporară „Karagoz Figures”\nÎnscrierile la atelierele de creație se vor face exclusiv pe adresa de e-mail a festivalului\npuppetsoccupystreet@gmail.com\, în perioada 12 – 22 august\, în limita locurilor disponibile.\nAccesul la ateliere este gratuit! Pentru înscriere sunt necesare: numele și vârsta participantului\, denumirea atelierului pentru care optează\, intervalul orar\, ziua în care își dorește să participe. \nAtelierele creative se vor derula la Secția de Etnografie – Casa Băniei\, str. Matei Basarab nr. 16\, având următoarea planificare: \n– Laboratorul creativ\, între orele 11:00 – 13:00\, la Casa Băniei\, în zilele 26\, 27\, 28\, 29\, 30\, 31 august. Vârsta minimă de participare 5 ani\, fiind disponibile 10 locuri / zi. În cadrul atelierului\, coordonat de Asociația April Hub\, cei mici vor desluși tainele lucrului manual\, realizând diverse figurine din materiale reciclabile și nu numai. \n– Construim instrumente muzicale și cântăm\, între orele 11:00 – 13:00\, la Casa Băniei\, în zilele 26\, 27\, 28\, 29\, 30\, 31 august. Vârsta minimă de participare 7 ani\, fiind disponibile 10 locuri / zi. Coordonat de violonista Valentina Coțofană\, atelierul îi învață pe copii\, într-o manieră amuzantă\, să își construiască instrumente muzicale\, folosind materiale reciclabile din carton\, hârtie\, plastic. \n– Construirea marionetei\, între orele 11:00 – 12:00 / 12:00 – 13:00\, la Casa Băniei\, în zilele 26\, 27\, 28\, 29\, 30\, 31 august. Vârsta de participare este cuprinsă între 5 – 15 ani\, fiind disponibile 20 locuri / zi (câte 10 pe serie). Atelierul\, coordonat de Valeriu Josan\, de la I.P.Teatrul Municipal de Marionete Chișinău\, le propune copiilor să cunoască păpușa care se mișcă cu ajutorul sforilor\, să învețe să o construiască și să o mânuiască pe acorduri muzicale. \nExpoziția temporară Karagoz Figures by Theater 916\, Germania – Muzeul Olteniei\, va fi vernisată duminică 25 august\, la Secția Istorie- Arheologie\, str. Madona Dudu nr. 14\, Sala de expoziție de la parter\, și va fi deschisă publicului până la 1 septembrie 2019. \nExpoziția Karagöz Figures / Figurile Karagöz este realizată de Compania de teatru Theater 916 din Germania\, și prezintă 60 de exponate de colecție\, aparținând lui Serkan Öztürk\, creator apreciat pentru dezvoltarea unui stil artistic propriu\, pornind de la tehnica tradițională de producție Karagöz.\nPentru designul figurilor s-a folosit piele de vacă și cămilă\, prelucrată de Serkan Öztürk cu ajutorul unor cuțite speciale.\nAceastă formă tradițională de teatru „Karagöz“ datează de secole\, și este patrimoniu cultural imaterial al umanității UNESCO din anul 2009 \n\n			\n				\n			\n			\n				\n			\n			\n				\n			\n			\n				\n			\n			\n				\n			\n			\n				\n			\n			\n				\n			\n			\n				\n			\n		\n\n1
URL:https://muzeulolteniei.ro/event/puppetsoccupystreetfestivalcraiova-400deevenimente-editia6-25-august-1-septembrie-2019-craiova/
CATEGORIES:Eveniment
ATTACH;FMTTYPE=image/jpeg:https://muzeulolteniei.ro/wp-content/uploads/2019/09/pupets17.jpg
END:VEVENT
END:VCALENDAR