BEGIN:VCALENDAR
VERSION:2.0
PRODID:-//Muzeul Olteniei Craiova  - ECPv5.14.2.1//NONSGML v1.0//EN
CALSCALE:GREGORIAN
METHOD:PUBLISH
X-WR-CALNAME:Muzeul Olteniei Craiova 
X-ORIGINAL-URL:https://muzeulolteniei.ro
X-WR-CALDESC:Events for Muzeul Olteniei Craiova 
BEGIN:VTIMEZONE
TZID:Europe/Helsinki
BEGIN:DAYLIGHT
TZOFFSETFROM:+0200
TZOFFSETTO:+0300
TZNAME:EEST
DTSTART:20220327T010000
END:DAYLIGHT
BEGIN:STANDARD
TZOFFSETFROM:+0300
TZOFFSETTO:+0200
TZNAME:EET
DTSTART:20221030T010000
END:STANDARD
END:VTIMEZONE
BEGIN:VEVENT
DTSTART;TZID=Europe/Helsinki:20221126T080000
DTEND;TZID=Europe/Helsinki:20221127T170000
DTSTAMP:20260421T113818
CREATED:20221124T122152Z
LAST-MODIFIED:20221124T122152Z
UID:16420-1669449600-1669568400@muzeulolteniei.ro
SUMMARY:Sărbătoarea cântecului și costumului popular românesc\, o filă din istoria și lumea satului oltenesc
DESCRIPTION:Muzeul Olteniei Craiova\, în calitate de partener Instituțional al Comisiei Naționale a României pentru UNESCO – CNR UNESCO\, organizează în colaborare cu Ansamblul Folcloric „Maria Tănase”  Craiova\, în weekendul 26-27 noiembrie\, în incinta Centrului Comercial Auchan Electroputere Parc (Craiova\, Calea București nr. 80)\, o sărbătoare a cântecului și costumului popular românesc\, o filă din istoria și lumea satului oltenesc. \nAstfel\, sâmbătă\, 26 noiembrie\, Centrul Comercial Auchan Electroputere Parc va găzdui un eveniment dedicat culturii tradiționale românești și elementelor de patrimoniu național\, precum portul popular și cămașa cu altiță din Oltenia\, context în care publicul larg se va bucura de o expoziție temporară a colecției private de port popular Liviu Olteanu\, o paradă a iilor și un program artistic organizat de Ansamblul Folcloric „Maria Tănase” Craiova – Atelierele de folclor\, Liviu Olteanu (Muzeul Olteniei) și Grupul Folcloric Grecești-Cernătești/Dolj. \nPentru că un muzeu viu\, este un muzeu care funcționează și în locuri neconvenționale\, în directă interacțiune cu publicul larg\, ne dorim ca evenimentul cultural pe care îl organizăm să poate rosti sensuri străvechi fără cuvinte\, doar prin imagini și frânturi dintr-o lume dispărută\, fără nume dar cu mare rânduială ce va fi parțial valorificată într-o expunere temporară a costumelor populare și o parada de port popular\, mesaje simple\, dar ample ca rost și semnificație. \nO expunere vie a costumului popular din Oltenia\, într-un circuit deschis publicului\, se vrea a fi un loc de întâlnire cu valorile tradițiilor populare românești\, oferind prilejul de a sărbători împreună cultura și valorile identitare românești. \nProgramul evenimentului va fi următorul: \n– 11.45-12.00 – Spectacol muzical Liviu Olteanu (Muzeul Olteniei) și Grupul Folcloric Grecești Cernătești/Dolj\, \n– 12.00-13.00 – Spectacol muzical\, Atelierele de folclor – Ansamblul Folcloric Maria Tănase\, \n– 13.00–13.30 – Parada iilor\, Ansamblului Folcloric Maria Tănase și Grupul Folcloric Grecești Cernătești/Dolj\, \n– 13.30-22.00 – Expoziție costume populare\, Colecția privată Liviu Olteanu. \nTema evenimentului se potriveste începutului sărbătorilor și ritualurilor de iarnă și vine ca un act de mărturisire a ceea ce a fost\, ce mai este și ce ar trebui revalorificat din poveștile unei lumi ce încă mărturisește\, prin prezența unor obiceiuri vii – cusutul cămășii cu altiță\, că orice reclădire și alcătuire a lucrurilor și obiceiurilor arhaice are puterea de a salva de la uitare\, oferind în fapt\, un “început perpetuu”! \nDe asemenea\, Muzeul Olteniei Craiova va iniția și realizaîn perioada 24-29 noiembrie 2022\, la sediul Secției de Etnografie– Casa Băniei\, o serie de manifestări dedicate tradiției populare și portului popular\, având ca element identitar cămașa cu altiță\, în scopul de a informa publicul larg\, de toate vârstele\, cu privire la importanța portului popular din Oltenie\, de a facilita cunoașterea și înțelegerea unei părți a patrimoniului ca premisă în prezervarea acestuia\, propunând ghidaje tematice/vizite\, educatie non-formala pentru cei aproximativ 800 de elevi din 13 școli generale din județul Dolj (2 din Craiova și 11 din zone rurale din județul Dolj)\,ce vor vizita muzeul în cadrul parteneriatului educațional EUlamuzEU\, implementat de Consiliul Județean Dolj. \nAstfel\, aducem în actualitate portul popular și tehnicile de producere a cămășilor cu altiță în zona etnografică Oltenia ce s-au conservat\, în timp\, prin transmiterea din generație în generație\, pe filiera feminină\, căci țesutul\, cusutul\, brodatul și toate tehnicile de producere\, în general\, a pieselor de îmbrăcăminte (exceptând cojoacele și hainele care se prelucrau de bărbați\, în ateliere specializate)\, au fost apanaj feminin. \nCămașa tradițională purtată de femei se detașează de celelalte piese de port\, concentrând și redând în cele din urmă esența tuturor manifestărilor creative din arta noastră populară. Frumusețea\, somptuozitatea și toate aspectele care țin de bogăția decorului cămășilor cu altiță dau acestui obiect valență de marcă identitară. Valoarea cămășilor este dată și de perpetuarea acestei piese de port peste timp\, de promovarea ei în toate momentele istoriei și de ieșirea la rampă în prezent\, ca piesă purtată din ce în ce mai frecvent și de tinerele generații căci istoria cămășilor cu altiță se poate studia și afla pe viu\, vizitând expoziția permanent de la Casa Băniei. \nMesajul evenimentului cultural poate fi descifrat în dublă cheie: cea a cămășii tradiționale tezaurizate într-un patrimoniu muzeal de excepție la Muzeul Olteniei și cămașa cu altiță creată de femeile de azi\, din urban și rural\, femei care lucrează din pasiune\, organizate sub forma șezătorilor de altădată și care caută tocmai modele vechi\, cele de final de sec. XIX și început de sec. XX pe care le-au promovat în istorie și soțiile boierilor\, în sec. XIX\, precum și de doamnele de la Casa Regală. \nÎn acest context\, expozeul etnografic propus în cadrul comunității va insera și perspectiva urbană\, actuală\, de abordare a cămășii\, prin prisma doamnelor care reușesc să recreeze modelele clasice de cămăși dar și a\, oamenilor care vin din lumea satului autentic și care cu adevărat au „moștenit” acest meșteșug și au reușit să răzbată cu aceste comori spectaculoase care sunt cămășile femeiești de sărbătoare\, până în zilele noastre. \nCămașa cu altiță din Oltenia s-a lucrat constant\, fenomenul continuității fiind atestat de prezenta în satele Olteniei a numeroase femei care dețin competențe în țesut și cusut cămăși și alte piese de port tradițional. \nDe asemenea\, duminică\, 27 noiembrie\, sărbătoarea cântecului și portului popular va continuacu recitaluri susținute de Taraful„Florili-n Crâng” (interval orar 12:00-12:45) și Ansamblul Artistic „Perlele Olteniei” (interval orar 13:00-13:45). \n  \n 
URL:https://muzeulolteniei.ro/event/sarbatoarea-cantecului-si-costumului-popular-romanesc-o-fila-din-istoria-si-lumea-satului-oltenesc/
CATEGORIES:Eveniment
ATTACH;FMTTYPE=image/jpeg:https://muzeulolteniei.ro/wp-content/uploads/2022/11/afis-Weekend-Traditional.jpeg
END:VEVENT
END:VCALENDAR