BEGIN:VCALENDAR
VERSION:2.0
PRODID:-//Muzeul Olteniei Craiova  - ECPv5.14.2.1//NONSGML v1.0//EN
CALSCALE:GREGORIAN
METHOD:PUBLISH
X-WR-CALNAME:Muzeul Olteniei Craiova 
X-ORIGINAL-URL:https://muzeulolteniei.ro
X-WR-CALDESC:Events for Muzeul Olteniei Craiova 
BEGIN:VTIMEZONE
TZID:Europe/Helsinki
BEGIN:DAYLIGHT
TZOFFSETFROM:+0200
TZOFFSETTO:+0300
TZNAME:EEST
DTSTART:20210328T010000
END:DAYLIGHT
BEGIN:STANDARD
TZOFFSETFROM:+0300
TZOFFSETTO:+0200
TZNAME:EET
DTSTART:20211031T010000
END:STANDARD
END:VTIMEZONE
BEGIN:VEVENT
DTSTART;VALUE=DATE:20210925
DTEND;VALUE=DATE:20210926
DTSTAMP:20260421T113444
CREATED:20210926T131344Z
LAST-MODIFIED:20210926T131344Z
UID:16130-1632528000-1632614399@muzeulolteniei.ro
SUMMARY:#UniversitateaCraiova  #MuzeulOlteniei   #NoapteaCercetatorilor
DESCRIPTION:E întotdeauna o plăcere să-i asculți pe restauratori și să le înțelegi perspectiva despre munca îndelungată\, minuțioasă și deloc lipsită de provocări care stă în spatele restaurarii unei piese!\n\nLa finalul unei etape de restaurare minuțioasă și exhaustivă\, ce poate dura mult\, mult timp\, piesa va putea fi etalata in spatiile expozitionale ale muzeelor.\n\nLucrările de restaurare ne sunt prezentate pe larg de către restaurator Lavinia Bălă\, din cadrul Sectiei de Stiintele Naturi.\n\n#UniversitateaCraiova #MuzeulOlteniei #NoapteaCercetatorilor
URL:https://muzeulolteniei.ro/event/universitateacraiova-muzeulolteniei-noapteacercetatorilor/
CATEGORIES:Eveniment
ATTACH;FMTTYPE=image/png:https://muzeulolteniei.ro/wp-content/uploads/2021/09/restaurare.png
END:VEVENT
END:VCALENDAR